BEGIN:VCALENDAR
VERSION:2.0
PRODID:-//Inter-Faith Food Shuttle - ECPv6.15.20//NONSGML v1.0//EN
CALSCALE:GREGORIAN
METHOD:PUBLISH
X-WR-CALNAME:Inter-Faith Food Shuttle
X-ORIGINAL-URL:https://foodshuttle.org
X-WR-CALDESC:Events for Inter-Faith Food Shuttle
REFRESH-INTERVAL;VALUE=DURATION:PT1H
X-Robots-Tag:noindex
X-PUBLISHED-TTL:PT1H
BEGIN:VTIMEZONE
TZID:America/New_York
BEGIN:DAYLIGHT
TZOFFSETFROM:-0500
TZOFFSETTO:-0400
TZNAME:EDT
DTSTART:20240310T070000
END:DAYLIGHT
BEGIN:STANDARD
TZOFFSETFROM:-0400
TZOFFSETTO:-0500
TZNAME:EST
DTSTART:20241103T060000
END:STANDARD
BEGIN:DAYLIGHT
TZOFFSETFROM:-0500
TZOFFSETTO:-0400
TZNAME:EDT
DTSTART:20250309T070000
END:DAYLIGHT
BEGIN:STANDARD
TZOFFSETFROM:-0400
TZOFFSETTO:-0500
TZNAME:EST
DTSTART:20251102T060000
END:STANDARD
BEGIN:DAYLIGHT
TZOFFSETFROM:-0500
TZOFFSETTO:-0400
TZNAME:EDT
DTSTART:20260308T070000
END:DAYLIGHT
BEGIN:STANDARD
TZOFFSETFROM:-0400
TZOFFSETTO:-0500
TZNAME:EST
DTSTART:20261101T060000
END:STANDARD
END:VTIMEZONE
BEGIN:VEVENT
DTSTART;VALUE=DATE:20251105
DTEND;VALUE=DATE:20251108
DTSTAMP:20260424T221451
CREATED:20250319T233329Z
LAST-MODIFIED:20251002T204813Z
UID:71844-1762300800-1762559999@foodshuttle.org
SUMMARY:Agriculture Conference
DESCRIPTION:Growing Stronger Communities: Sustainable Agriculture for Nutrition Security is the first-of-its-kind convening of a nationwide network committed to helping communities achieve nutrition security through strengthened local\, sustainable food systems. Hosted by Inter-Faith Food Shuttle in its home city of Raleigh\, North Carolina from November 5-7\, 2025\, it will bring together community members from all sectors to learn\, share and collaborate to advance sustainable agriculture for community nutrition security. \nIn addition to General Sessions\, breakout sessions will follow these three tracks:  \n\nPlant More Locally. In communities across the country\, tools\, resources\, innovations\, and spaces exist to increase how much nutritious food underserved communities produce themselves. In this track attendees share tips on where and how to find and use tools and resources in their communities. \n\n\nCultivate Better Health. We are as healthy as the food we eat. This track explores how to enhance food is medicine work. \n\n\nHarvest Opportunities Together. This track explores how greater nutrition self-sufficiency creates economic growth opportunities and resilience within and among communities.\n\n			\n				Register for the Conference\n			\n				Visit the Conference Website\n			\n			\n				\n				\n				\n				\n			\n				\n				\n			\n				\n				\n				\n				\n				\n				\n				\n				\n				\n				\n				\n				\n				\n				\n				\n				\n				\n				Sample Text
URL:https://foodshuttle.org/event/agriculture-conference-growing-stronger-communities/
LOCATION:Sheraton Raleigh Hotel\, 421 Salisbury St\, Raleigh\, NC\, 27601\, United States
ATTACH;FMTTYPE=image/png:https://foodshuttle.org/wp-content/uploads/2025/03/Ag-Logo-Small.png
ORGANIZER;CN="Inter-Faith Food Shuttle":MAILTO:events@foodshuttle.org
END:VEVENT
END:VCALENDAR